BEGIN:VCALENDAR
VERSION:2.0
PRODID:-//Tukios.com/
BEGIN:VEVENT
UID:6d9c2512-93a4-4af8-ab0e-31a6c77f201c@www.burkholderfunerals.com
DTSTAMP:20260421T120900Z
DTSTART:20260424T150000Z
DTEND:20260424T160000Z
SUMMARY:Visitation
DESCRIPTION:
URL:https://www.burkholderfunerals.com/obituaries/karl-wondergem
LOCATION:Burkholder-Nielsen Funeral Home 211 N Pine St  McBain MI 49657
GEO:44.1946905;-85.2142372
END:VEVENT
END:VCALENDAR