BEGIN:VCALENDAR
VERSION:2.0
PRODID:-//Tukios.com/
BEGIN:VEVENT
UID:df599910-9daa-4849-aca2-eaa8085fd7ab@www.burkholderfunerals.com
DTSTAMP:20260421T121032Z
DTSTART:20260424T160000Z
DTEND:20260424T170000Z
SUMMARY:Celebration of Life
DESCRIPTION:
URL:https://www.burkholderfunerals.com/obituaries/karl-wondergem
LOCATION:Burkholder-Nielsen Funeral Home 211 N Pine St  McBain MI 49657
GEO:44.1946905;-85.2142372
END:VEVENT
END:VCALENDAR