BEGIN:VCALENDAR
VERSION:2.0
PRODID:-//Tukios.com/
BEGIN:VEVENT
UID:4ffc57c6-ad6b-498d-a8ac-ef1875ce5f69@www.burkholderfunerals.com
DTSTAMP:20260423T085437Z
DTSTART:20260425T170000Z
DTEND:20260425T180000Z
SUMMARY:Funeral Service
DESCRIPTION:
URL:https://www.burkholderfunerals.com/obituaries/irene-billett
LOCATION:United Methodist Church of Lake City 301 John Street  Lake City 
	MI 49651
GEO:44.3346563;-85.2123435
END:VEVENT
END:VCALENDAR