BEGIN:VCALENDAR
VERSION:2.0
PRODID:-//Tukios.com/
BEGIN:VEVENT
UID:6521c8d7-c26f-4d31-891a-5ac48c70aaf0@www.burkholderfunerals.com
DTSTAMP:20260421T122021Z
DTSTART:20260425T160000Z
DTEND:20260425T170000Z
SUMMARY:Visitation
DESCRIPTION:
URL:https://www.burkholderfunerals.com/obituaries/irene-billett
LOCATION:United Methodist Church of Lake City 301 John Street  Lake City 
	MI 49651
GEO:44.3346563;-85.2123435
END:VEVENT
END:VCALENDAR