BEGIN:VCALENDAR
VERSION:2.0
PRODID:-//Tukios.com/
BEGIN:VEVENT
UID:881190d0-e083-465b-b1ab-0e6e1359081d@www.burkholderfunerals.com
DTSTAMP:20260422T041838Z
DTSTART:20260503T160000Z
DTEND:20260503T190000Z
SUMMARY:Memorial Gathering
DESCRIPTION:
URL:https://www.burkholderfunerals.com/obituaries/ben-clark
LOCATION:McBain Baptist Church fellowship building 110 N Hemlock St.  
	McBain MI 49657
GEO:44.1923031;-85.2086235
END:VEVENT
END:VCALENDAR